BEGIN:VCALENDAR
VERSION:2.0
PRODID:-//NW8 Mums - ECPv6.15.17.1//NONSGML v1.0//EN
CALSCALE:GREGORIAN
METHOD:PUBLISH
X-WR-CALNAME:NW8 Mums
X-ORIGINAL-URL:https://www.nw8-mums.com
X-WR-CALDESC:Events for NW8 Mums
REFRESH-INTERVAL;VALUE=DURATION:PT1H
X-Robots-Tag:noindex
X-PUBLISHED-TTL:PT1H
BEGIN:VTIMEZONE
TZID:UTC
BEGIN:STANDARD
TZOFFSETFROM:+0000
TZOFFSETTO:+0000
TZNAME:UTC
DTSTART:20250101T000000
END:STANDARD
END:VTIMEZONE
BEGIN:VEVENT
DTSTART;TZID=UTC:20260430T100000
DTEND;TZID=UTC:20260430T113000
DTSTAMP:20260422T050123
CREATED:20260311T153732Z
LAST-MODIFIED:20260421T094638Z
UID:4266-1777543200-1777548600@www.nw8-mums.com
SUMMARY:BOOKING OPEN for Coffee Morning Talk / Workshop with Certified Life Coach Emi Marta on the 'Authenticity Shift'
DESCRIPTION:Coffee Morning Talk/ Workshop with Certified Life Coach and founder of AUTHENTICA\, Emi Marta\, on Thursday 30th April at 10-11.30 am at The Cherish Club. \nEmi will share how your authenticity can guide your life and work\, especially after 40\, when many women experience the ‘Authenticity Shift‘. This coffee morning talk will be both a practical and reflective session where Emi will share the tools to help you reconnect with yourself\, build confidence\, and live with greater clarity and purpose. \nFor more information or to book your spot\, please check the link below. Tickets are £10/person.\n\nwww.eventbrite.co.uk/e/the-authenticity-shift-in-conference-with-the-body-tickets-1986029038316 \nBabies/toddlers are welcome and you can comfortably breastfeed. Our coffee mornings are relaxed and informal. \nI very much look forward to seeing you on Thursday 30 April! \nKarin x \n  \n 
URL:https://www.nw8-mums.com/event/coffee-morning-talk-workshop-with-coach-emi-marta-image-coach-shabrina-kara/
LOCATION:The Cherish Club
CATEGORIES:Diary
END:VEVENT
END:VCALENDAR