BEGIN:VCALENDAR
VERSION:2.0
PRODID:-//NW8 Mums - ECPv6.15.17.1//NONSGML v1.0//EN
CALSCALE:GREGORIAN
METHOD:PUBLISH
X-WR-CALNAME:NW8 Mums
X-ORIGINAL-URL:https://www.nw8-mums.com
X-WR-CALDESC:Events for NW8 Mums
REFRESH-INTERVAL;VALUE=DURATION:PT1H
X-Robots-Tag:noindex
X-PUBLISHED-TTL:PT1H
BEGIN:VTIMEZONE
TZID:UTC
BEGIN:STANDARD
TZOFFSETFROM:+0000
TZOFFSETTO:+0000
TZNAME:UTC
DTSTART:20250101T000000
END:STANDARD
END:VTIMEZONE
BEGIN:VEVENT
DTSTART;TZID=UTC:20260428T180000
DTEND;TZID=UTC:20260428T190000
DTSTAMP:20260421T220511
CREATED:20260413T171349Z
LAST-MODIFIED:20260413T171349Z
UID:4319-1777399200-1777402800@www.nw8-mums.com
SUMMARY:Menopause Circle Led by Karin at The Hearth\, Queen's Park
DESCRIPTION:Please join me\, Karin\, to talk all things menopause in a safe and supportive space at this month’s Menopause Circle at The Hearth. \nFor more information\, please click HERE. \nFor tickets\, please click on the link below. \nwww.eventbrite.co.uk/e/menopause-circle-with-karin-thyselius-tickets-1980862196152?aff=KT \nPlease note this event is organised by and hosted at The Hearth in Queen’s Park.
URL:https://www.nw8-mums.com/event/menopause-circle-led-by-karin-at-the-hearth-queens-park/
LOCATION:https://www.thehearth.me/\, 16 Lonsdale Road\, London\, NW6 6RD\, United Kingdom
CATEGORIES:Diary
END:VEVENT
END:VCALENDAR