BEGIN:VCALENDAR
VERSION:2.0
PRODID:-//NW8 Mums - ECPv6.15.17.1//NONSGML v1.0//EN
CALSCALE:GREGORIAN
METHOD:PUBLISH
X-WR-CALNAME:NW8 Mums
X-ORIGINAL-URL:https://www.nw8-mums.com
X-WR-CALDESC:Events for NW8 Mums
REFRESH-INTERVAL;VALUE=DURATION:PT1H
X-Robots-Tag:noindex
X-PUBLISHED-TTL:PT1H
BEGIN:VTIMEZONE
TZID:UTC
BEGIN:STANDARD
TZOFFSETFROM:+0000
TZOFFSETTO:+0000
TZNAME:UTC
DTSTART:20250101T000000
END:STANDARD
END:VTIMEZONE
BEGIN:VEVENT
DTSTART;TZID=UTC:20260305T100000
DTEND;TZID=UTC:20260305T120000
DTSTAMP:20260422T082615
CREATED:20260123T175036Z
LAST-MODIFIED:20260225T084738Z
UID:4181-1772704800-1772712000@www.nw8-mums.com
SUMMARY:Coffee Morning Talk/Workshop with Cigal Kaplan & Isabelle Lamy for Tips on Home Organising\, Decluttering & Interior Design
DESCRIPTION:Coffee Morning Talk/Workshop with interior designer Cigal Kaplan & home organiser and declutterer Isabelle Lamy at 10 am-12 noon** at The Cherish Club. \n** Please note the longer time. \nFor more information and a link to book your spot\, please click HERE. \nTicket: £10/person. Please note all our coffee mornings are relaxed and informal. Children are welcome and you can comfortably breastfeed. \n 
URL:https://www.nw8-mums.com/event/coffee-morning-talk-with-cigal-kaplan-isabelle-lamy/
LOCATION:The Cherish Club
CATEGORIES:Diary
END:VEVENT
END:VCALENDAR