BEGIN:VCALENDAR
VERSION:2.0
PRODID:-//NW8 Mums - ECPv6.15.17.1//NONSGML v1.0//EN
CALSCALE:GREGORIAN
METHOD:PUBLISH
X-WR-CALNAME:NW8 Mums
X-ORIGINAL-URL:https://www.nw8-mums.com
X-WR-CALDESC:Events for NW8 Mums
REFRESH-INTERVAL;VALUE=DURATION:PT1H
X-Robots-Tag:noindex
X-PUBLISHED-TTL:PT1H
BEGIN:VTIMEZONE
TZID:UTC
BEGIN:STANDARD
TZOFFSETFROM:+0000
TZOFFSETTO:+0000
TZNAME:UTC
DTSTART:20250101T000000
END:STANDARD
END:VTIMEZONE
BEGIN:VEVENT
DTSTART;TZID=UTC:20260507T100000
DTEND;TZID=UTC:20260507T113000
DTSTAMP:20260422T050740
CREATED:20260131T165944Z
LAST-MODIFIED:20260421T093541Z
UID:4204-1778148000-1778153400@www.nw8-mums.com
SUMMARY:BOOKING OPEN for Coffee Morning Talk 'All You Need To Know About the 11+/13+ Exams & The Senior School Transition'
DESCRIPTION:Coffee Morning Talk ‘All You Need To Know About the 11+/13+ Exams & The Senior School Transition‘ with Richard Tillett\, Principal at Queen’s College London & Giles Tollit\, Headmaster of Arnold House School\, at The Cherish Club at 10-11.30 am. \nThis will be an informative and reassuring talk on the senior school transition process and our expert speakers will guide you through what really matters\, what to look out for\, what actually does NOT matter\, and the choices you may be considering from co-ed vs single sex to tutoring and other school options. \nThis session is suitable to all families regardless of gender or whether your child currently attends a state or private school. As always\, there will be plenty of time for a Q&A. \nTo book your spot\, please click HERE or on link below. \nwww.eventbrite.co.uk/e/all-you-need-to-know-about-the-senior-school-transition-the-1113-exams-tickets-1987137016308? \nTicket: £10/person. Please note all our coffee mornings are relaxed and informal. Children are welcome and you can comfortably breastfeed.
URL:https://www.nw8-mums.com/event/coffee-morning-talk-all-you-need-to-know-about-the-11-13-exams-the-senior-school-transition/
LOCATION:The Cherish Club
CATEGORIES:Diary
END:VEVENT
BEGIN:VEVENT
DTSTART;TZID=UTC:20260521T100000
DTEND;TZID=UTC:20260521T110000
DTSTAMP:20260422T050740
CREATED:20260224T131234Z
LAST-MODIFIED:20260421T094556Z
UID:4238-1779357600-1779361200@www.nw8-mums.com
SUMMARY:BOOKING OPEN for ONLINE Coffee Morning Talk on Mental Fitness for Modern Motherhood with Therapist & Coach Arantxa De Dios
DESCRIPTION:ONLINE Coffee Morning Talk on Thursday 21st May at 10-11 am on ‘Mental Fitness for Modern Motherhood: How to Feel Calm\, Clear and in Control — Even in a Busy Life’ with coach\, hypnotherapist\, EMDR\, EFT & NLP Practitioner Arantxa De Dios. \nFor more information or to book your slot\, please click HERE or on the link below. Tickets: £10/person. \nwww.eventbrite.com/e/mental-fitness-for-modern-motherhood-tickets-1985948619782?aff=oddtdtcreator&keep_tld=true \nPlease note this is a virtual talk. \nI look forward to seeing you online on Thursday 21st May! \nKarin x
URL:https://www.nw8-mums.com/event/4238/
LOCATION:ONLINE
CATEGORIES:Diary
END:VEVENT
END:VCALENDAR