BEGIN:VCALENDAR
VERSION:2.0
PRODID:-//NW8 Mums - ECPv6.15.17.1//NONSGML v1.0//EN
CALSCALE:GREGORIAN
METHOD:PUBLISH
X-ORIGINAL-URL:https://www.nw8-mums.com
X-WR-CALDESC:Events for NW8 Mums
REFRESH-INTERVAL;VALUE=DURATION:PT1H
X-Robots-Tag:noindex
X-PUBLISHED-TTL:PT1H
BEGIN:VTIMEZONE
TZID:UTC
BEGIN:STANDARD
TZOFFSETFROM:+0000
TZOFFSETTO:+0000
TZNAME:UTC
DTSTART:20250101T000000
END:STANDARD
END:VTIMEZONE
BEGIN:VEVENT
DTSTART;TZID=UTC:20260305T100000
DTEND;TZID=UTC:20260305T120000
DTSTAMP:20260422T051228
CREATED:20260123T175036Z
LAST-MODIFIED:20260225T084738Z
UID:4181-1772704800-1772712000@www.nw8-mums.com
SUMMARY:Coffee Morning Talk/Workshop with Cigal Kaplan & Isabelle Lamy for Tips on Home Organising\, Decluttering & Interior Design
DESCRIPTION:Coffee Morning Talk/Workshop with interior designer Cigal Kaplan & home organiser and declutterer Isabelle Lamy at 10 am-12 noon** at The Cherish Club. \n** Please note the longer time. \nFor more information and a link to book your spot\, please click HERE. \nTicket: £10/person. Please note all our coffee mornings are relaxed and informal. Children are welcome and you can comfortably breastfeed. \n 
URL:https://www.nw8-mums.com/event/coffee-morning-talk-with-cigal-kaplan-isabelle-lamy/
LOCATION:The Cherish Club
CATEGORIES:Diary
END:VEVENT
BEGIN:VEVENT
DTSTART;TZID=UTC:20260312T100000
DTEND;TZID=UTC:20260312T110000
DTSTAMP:20260422T051228
CREATED:20260123T175719Z
LAST-MODIFIED:20260225T084705Z
UID:4182-1773309600-1773313200@www.nw8-mums.com
SUMMARY:Coffee Morning Talk with Mr Christopher\, Head of St Mark's Hall Nursery School\, on School Readiness & The 4+ Assessments
DESCRIPTION:Coffee Morning Talk with Mr Christopher\, Head of St Mark’s Hall Nursery School\, at 10-11 am at The Cherish Club on school readiness and the 4+ assessments. \nPlease note that our educational talks often run late and closer to 11.30 am. \nFor more information and a link to book your spot\, please click HERE. \nTicket: £10/person and proceeds go to charity. Please note all our coffee mornings are relaxed and informal. Children are welcome and you can comfortably breastfeed.
URL:https://www.nw8-mums.com/event/coffee-morning-talk-with-mr-christopher-head-of-st-marks-hall-nursery-school-on-school-readiness-the-4-assessments/
LOCATION:The Cherish Club
CATEGORIES:Diary
END:VEVENT
BEGIN:VEVENT
DTSTART;TZID=UTC:20260319T100000
DTEND;TZID=UTC:20260319T110000
DTSTAMP:20260422T051228
CREATED:20260123T180232Z
LAST-MODIFIED:20260311T143232Z
UID:4183-1773914400-1773918000@www.nw8-mums.com
SUMMARY:Coffee Morning Talk with Baby Nutritionist & Fussy Eating Expert Katia Balducci
DESCRIPTION:Coffee Morning Talk with baby nutritionist and fussy easting expert Katia Balducci at 10-11 am at The Cherish Club. \nFor more information and a link to book your spot\, please click HERE. \nTicket: £10/person. Please note all our coffee mornings are relaxed and informal. Children are welcome and you can comfortably breastfeed.
URL:https://www.nw8-mums.com/event/coffee-morning-talk-with-baby-nutritionist-fussy-eating-expert-katia-balducci/
LOCATION:The Cherish Club
CATEGORIES:Diary
END:VEVENT
END:VCALENDAR